BEGIN:VCALENDAR
VERSION:2.0
PRODID:-//Junge Union Nordfriesland - ECPv6.15.14//NONSGML v1.0//EN
CALSCALE:GREGORIAN
METHOD:PUBLISH
X-ORIGINAL-URL:https://ju-nf.de
X-WR-CALDESC:Veranstaltungen für Junge Union Nordfriesland
REFRESH-INTERVAL;VALUE=DURATION:PT1H
X-Robots-Tag:noindex
X-PUBLISHED-TTL:PT1H
BEGIN:VTIMEZONE
TZID:Europe/Berlin
BEGIN:DAYLIGHT
TZOFFSETFROM:+0100
TZOFFSETTO:+0200
TZNAME:CEST
DTSTART:20160327T010000
END:DAYLIGHT
BEGIN:STANDARD
TZOFFSETFROM:+0200
TZOFFSETTO:+0100
TZNAME:CET
DTSTART:20161030T010000
END:STANDARD
BEGIN:DAYLIGHT
TZOFFSETFROM:+0100
TZOFFSETTO:+0200
TZNAME:CEST
DTSTART:20170326T010000
END:DAYLIGHT
BEGIN:STANDARD
TZOFFSETFROM:+0200
TZOFFSETTO:+0100
TZNAME:CET
DTSTART:20171029T010000
END:STANDARD
BEGIN:DAYLIGHT
TZOFFSETFROM:+0100
TZOFFSETTO:+0200
TZNAME:CEST
DTSTART:20180325T010000
END:DAYLIGHT
BEGIN:STANDARD
TZOFFSETFROM:+0200
TZOFFSETTO:+0100
TZNAME:CET
DTSTART:20181028T010000
END:STANDARD
END:VTIMEZONE
BEGIN:VEVENT
DTSTART;TZID=Europe/Berlin:20170929T183000
DTEND;TZID=Europe/Berlin:20170929T200000
DTSTAMP:20260423T004627
CREATED:20170926T191942Z
LAST-MODIFIED:20170926T191942Z
UID:437-1506709800-1506715200@ju-nf.de
SUMMARY:Antragsberatung zum SHT
DESCRIPTION:Die Antragsberatung des Kreisverbands zum Leitantrag der JU SH.
URL:https://ju-nf.de/veranstaltungen/antragsberatung-zum-sht/
LOCATION:Kreisgeschäftsstelle\, Hinrich-Fehrs-Straße 2\, Husum\, Schleswig-Holstein\, 25813\, Deutschland
CATEGORIES:Termine
ATTACH;FMTTYPE=image/jpeg:https://ju-nf.de/wp-content/uploads/2017/08/IMG_20170617_1517539.jpg
END:VEVENT
END:VCALENDAR