BEGIN:VCALENDAR
VERSION:2.0
PRODID:-//Junge Union Nordfriesland - ECPv6.15.14//NONSGML v1.0//EN
CALSCALE:GREGORIAN
METHOD:PUBLISH
X-WR-CALNAME:Junge Union Nordfriesland
X-ORIGINAL-URL:https://ju-nf.de
X-WR-CALDESC:Veranstaltungen für Junge Union Nordfriesland
REFRESH-INTERVAL;VALUE=DURATION:PT1H
X-Robots-Tag:noindex
X-PUBLISHED-TTL:PT1H
BEGIN:VTIMEZONE
TZID:Europe/Berlin
BEGIN:DAYLIGHT
TZOFFSETFROM:+0100
TZOFFSETTO:+0200
TZNAME:CEST
DTSTART:20160327T010000
END:DAYLIGHT
BEGIN:STANDARD
TZOFFSETFROM:+0200
TZOFFSETTO:+0100
TZNAME:CET
DTSTART:20161030T010000
END:STANDARD
BEGIN:DAYLIGHT
TZOFFSETFROM:+0100
TZOFFSETTO:+0200
TZNAME:CEST
DTSTART:20170326T010000
END:DAYLIGHT
BEGIN:STANDARD
TZOFFSETFROM:+0200
TZOFFSETTO:+0100
TZNAME:CET
DTSTART:20171029T010000
END:STANDARD
BEGIN:DAYLIGHT
TZOFFSETFROM:+0100
TZOFFSETTO:+0200
TZNAME:CEST
DTSTART:20180325T010000
END:DAYLIGHT
BEGIN:STANDARD
TZOFFSETFROM:+0200
TZOFFSETTO:+0100
TZNAME:CET
DTSTART:20181028T010000
END:STANDARD
END:VTIMEZONE
BEGIN:VEVENT
DTSTART;VALUE=DATE:20171014
DTEND;VALUE=DATE:20171016
DTSTAMP:20260423T004227
CREATED:20170926T121405Z
LAST-MODIFIED:20170926T121405Z
UID:375-1507939200-1508111999@ju-nf.de
SUMMARY:Schleswig-Holstein-Tag der Jungen Union
DESCRIPTION:Ein Veranstaltung der Jungen Union Schleswig-Holstein:\nWir freuen uns unter anderem unsere Justizministerin Frau Dr. Sabine Sütterlin-Waack sowie unseren Inneminister Hans-Joachim Grote begrüßen zu dürfen. Inhaltlich werden wir anschließend unseren Leitantrag bearbeiten. \nDie verbindliche Anmeldung kann über die JU-Homepage bis zum 1. Oktober erfolgen. \nBei späterer Anmeldung kann nicht mehr für die Übernachtung garantiert werden.\nDer Tagungsbeitrag beträgt 40€\, darin sind Übernachtung und Verpﬂegung sowie der Eintritt zur Festveranstaltung enthalten. Ohne Übernachtung sind 25€ zu zahlen (gilt auch bei Teilnahme an nur einem Tag). Der Beitrag ist vor Ort zu entrichten. \nUnser Leitantrag beschäftigt sich mit der Außen- und Sicherheitspolitik Deutschlands und Europas. Wir können uns auf hitzige Debatten über die Einführung einer Europa-Armee und die Sicherung der Außengrenzen freuen. Daneben können wir als Ehrengäste den Innenminister des Landes Schleswig-Holstein\, Hans-Joachim Grote und Patrick Sensburg MdB begrüßen.
URL:https://ju-nf.de/veranstaltungen/schleswig-holstein-tag-der-jungen-union/
LOCATION:Bürgerhaus Henstedt-Ulzburg\, Beckersbergstr. 34\, Henstedt-Ulzburg\, Schleswig-Holstein\, 24558\, Deutschland
CATEGORIES:Termine
ATTACH;FMTTYPE=image/jpeg:https://ju-nf.de/wp-content/uploads/2017/04/14940036_1299912506698391_853599699371030883_o.jpg
ORGANIZER;CN="Junge Union Schleswig-Holstein":MAILTO:info@jush.de
END:VEVENT
END:VCALENDAR