BEGIN:VCALENDAR
VERSION:2.0
PRODID:-//Junge Union Nordfriesland - ECPv6.15.14//NONSGML v1.0//EN
CALSCALE:GREGORIAN
METHOD:PUBLISH
X-WR-CALNAME:Junge Union Nordfriesland
X-ORIGINAL-URL:https://ju-nf.de
X-WR-CALDESC:Veranstaltungen für Junge Union Nordfriesland
REFRESH-INTERVAL;VALUE=DURATION:PT1H
X-Robots-Tag:noindex
X-PUBLISHED-TTL:PT1H
BEGIN:VTIMEZONE
TZID:Europe/Berlin
BEGIN:DAYLIGHT
TZOFFSETFROM:+0100
TZOFFSETTO:+0200
TZNAME:CEST
DTSTART:20160327T010000
END:DAYLIGHT
BEGIN:STANDARD
TZOFFSETFROM:+0200
TZOFFSETTO:+0100
TZNAME:CET
DTSTART:20161030T010000
END:STANDARD
BEGIN:DAYLIGHT
TZOFFSETFROM:+0100
TZOFFSETTO:+0200
TZNAME:CEST
DTSTART:20170326T010000
END:DAYLIGHT
BEGIN:STANDARD
TZOFFSETFROM:+0200
TZOFFSETTO:+0100
TZNAME:CET
DTSTART:20171029T010000
END:STANDARD
BEGIN:DAYLIGHT
TZOFFSETFROM:+0100
TZOFFSETTO:+0200
TZNAME:CEST
DTSTART:20180325T010000
END:DAYLIGHT
BEGIN:STANDARD
TZOFFSETFROM:+0200
TZOFFSETTO:+0100
TZNAME:CET
DTSTART:20181028T010000
END:STANDARD
END:VTIMEZONE
BEGIN:VEVENT
DTSTART;TZID=Europe/Berlin:20171103T190000
DTEND;TZID=Europe/Berlin:20171103T210000
DTSTAMP:20260422T231006
CREATED:20171019T130742Z
LAST-MODIFIED:20171019T130742Z
UID:978-1509735600-1509742800@ju-nf.de
SUMMARY:Stammtisch OV Südtondern
DESCRIPTION:Liebe Freunde\, \ndie Wahlkämpfe sind geschafft und wir Nordfriesen\, insbesondere wir in Südtondern\, können hochzufrieden mit unseren hiesigen Ergebnissen sein\, auch wenn der Bundestrend enttäuschend war. Wir haben es geschafft\, unsere JU-Freundin und CDU Kreisvorsitzende Astrid Damerow mit einem top Ergebnis nach Berlin zu schicken! In Südtondern haben wir zusammen viel geschafft und einiges bewegt. \nJetzt\, wo sich langsam die letzten Wochen des Jahres nähren\, wollen wir Euch gerne wieder zum Stammtisch einladen! In gewohnter Manier erwartet uns ein gemütlicher Abend bei gutem Essen und tollen Gesprächen. \nWir freuen uns auf Euch! \nEure JU Südtondern
URL:https://ju-nf.de/veranstaltungen/stammtisch-ov-suedtondern/
LOCATION:Wattwurm\, Niebüll\, Hauptstraße 28\, Niebüll\, Schleswig-Holstein\, 25899\, Deutschland
CATEGORIES:Termine
ATTACH;FMTTYPE=image/jpeg:https://ju-nf.de/wp-content/uploads/2017/08/Stammtisch-April.jpg
END:VEVENT
END:VCALENDAR