BEGIN:VCALENDAR
VERSION:2.0
PRODID:-//Junge Union Nordfriesland - ECPv6.15.14//NONSGML v1.0//EN
CALSCALE:GREGORIAN
METHOD:PUBLISH
X-WR-CALNAME:Junge Union Nordfriesland
X-ORIGINAL-URL:https://ju-nf.de
X-WR-CALDESC:Veranstaltungen für Junge Union Nordfriesland
REFRESH-INTERVAL;VALUE=DURATION:PT1H
X-Robots-Tag:noindex
X-PUBLISHED-TTL:PT1H
BEGIN:VTIMEZONE
TZID:Europe/Berlin
BEGIN:DAYLIGHT
TZOFFSETFROM:+0100
TZOFFSETTO:+0200
TZNAME:CEST
DTSTART:20160327T010000
END:DAYLIGHT
BEGIN:STANDARD
TZOFFSETFROM:+0200
TZOFFSETTO:+0100
TZNAME:CET
DTSTART:20161030T010000
END:STANDARD
BEGIN:DAYLIGHT
TZOFFSETFROM:+0100
TZOFFSETTO:+0200
TZNAME:CEST
DTSTART:20170326T010000
END:DAYLIGHT
BEGIN:STANDARD
TZOFFSETFROM:+0200
TZOFFSETTO:+0100
TZNAME:CET
DTSTART:20171029T010000
END:STANDARD
BEGIN:DAYLIGHT
TZOFFSETFROM:+0100
TZOFFSETTO:+0200
TZNAME:CEST
DTSTART:20180325T010000
END:DAYLIGHT
BEGIN:STANDARD
TZOFFSETFROM:+0200
TZOFFSETTO:+0100
TZNAME:CET
DTSTART:20181028T010000
END:STANDARD
END:VTIMEZONE
BEGIN:VEVENT
DTSTART;TZID=Europe/Berlin:20171111T140000
DTEND;TZID=Europe/Berlin:20171111T183000
DTSTAMP:20260422T231026
CREATED:20171019T131432Z
LAST-MODIFIED:20171019T131432Z
UID:981-1510408800-1510425000@ju-nf.de
SUMMARY:Schleswig-Holstein-Rat der Jungen Union
DESCRIPTION:Der Schleswig-Holstein-Rat stellt das zweithöchste Beschlussgremium unseres Landesverbandes\, der Jungen Union Schleswig-Holstein dar. Er setzt sich aus Delegierten der Kreisverbände nach Mitgliederstärke zusammen. Hier finden die sachpolitischen Diskussion statt. \nMitglieder und Interessierte sind selbstverständlich auch herzlich willkommen. Meldet Euch hierfür bitte vorher bei uns (info@ju-nf.de).
URL:https://ju-nf.de/veranstaltungen/schleswig-holstein-rat-der-jungen-union/
LOCATION:Kreishaus\, Schleswig\, Flensburger Str. 7\, Schleswig\, Schleswig-Holstein\, 24837\, Deutschland
CATEGORIES:Termine
ATTACH;FMTTYPE=image/jpeg:https://ju-nf.de/wp-content/uploads/2017/09/jhh_sht_2-290301.jpg
END:VEVENT
END:VCALENDAR