BEGIN:VCALENDAR
VERSION:2.0
PRODID:-//Junge Union Nordfriesland - ECPv6.15.14//NONSGML v1.0//EN
CALSCALE:GREGORIAN
METHOD:PUBLISH
X-WR-CALNAME:Junge Union Nordfriesland
X-ORIGINAL-URL:https://ju-nf.de
X-WR-CALDESC:Veranstaltungen für Junge Union Nordfriesland
REFRESH-INTERVAL;VALUE=DURATION:PT1H
X-Robots-Tag:noindex
X-PUBLISHED-TTL:PT1H
BEGIN:VTIMEZONE
TZID:Europe/Berlin
BEGIN:DAYLIGHT
TZOFFSETFROM:+0100
TZOFFSETTO:+0200
TZNAME:CEST
DTSTART:20160327T010000
END:DAYLIGHT
BEGIN:STANDARD
TZOFFSETFROM:+0200
TZOFFSETTO:+0100
TZNAME:CET
DTSTART:20161030T010000
END:STANDARD
BEGIN:DAYLIGHT
TZOFFSETFROM:+0100
TZOFFSETTO:+0200
TZNAME:CEST
DTSTART:20170326T010000
END:DAYLIGHT
BEGIN:STANDARD
TZOFFSETFROM:+0200
TZOFFSETTO:+0100
TZNAME:CET
DTSTART:20171029T010000
END:STANDARD
BEGIN:DAYLIGHT
TZOFFSETFROM:+0100
TZOFFSETTO:+0200
TZNAME:CEST
DTSTART:20180325T010000
END:DAYLIGHT
BEGIN:STANDARD
TZOFFSETFROM:+0200
TZOFFSETTO:+0100
TZNAME:CET
DTSTART:20181028T010000
END:STANDARD
END:VTIMEZONE
BEGIN:VEVENT
DTSTART;TZID=Europe/Berlin:20171118T134500
DTEND;TZID=Europe/Berlin:20171118T170000
DTSTAMP:20260423T004253
CREATED:20171105T115436Z
LAST-MODIFIED:20171109T185336Z
UID:1005-1511012700-1511024400@ju-nf.de
SUMMARY:KulturTour der JU Husum u.U.
DESCRIPTION:Die kulturelle Vielfalt in Nordfriesland ist einzigartig und wir möchten diese würdigen. Aus diesem Grund wollen wir am 18.11.17\, gemeinsan mit euch\, mehr über diese lernen.\nDazu besuchen wir das Nissenhaus\, welches sich allumfassend mit unser nordfriesischen Heimat beschäftigt\, und das Theodor-Storm-Haus\, in dem wir mehr über einen der bekanntesten Söhne Husums erfahren.\nDie Teilnahme an dieser Veranstaltung ist für Mitglieder der JU NF vollkommen kostenfrei! \nAlle anderen Teilnehmer bitten wir um eine kleine Spende. Wer dabei sein möchte sollte schnell sein\, denn die Plätze sind begrenzt. Also meldet euch einfach beim Vorstand oder hier\, per Privatnachricht\, an.\nWir freuen uns auf euch! \nEure JU Husum u.U.
URL:https://ju-nf.de/veranstaltungen/kulturtour-der-ju-husum-u-u/
LOCATION:Nissenhaus\, Husum\, Herzog-Adolf-Straße 25\, Husum\, Schleswig-Holstein\, 25813\, Deutschland
CATEGORIES:Termine
ATTACH;FMTTYPE=image/jpeg:https://ju-nf.de/wp-content/uploads/2017/09/20160909_143807-e1506461772982.jpg
END:VEVENT
BEGIN:VEVENT
DTSTART;TZID=Europe/Berlin:20171118T173000
DTEND;TZID=Europe/Berlin:20171118T210000
DTSTAMP:20260423T004253
CREATED:20171116T093002Z
LAST-MODIFIED:20171116T093002Z
UID:1018-1511026200-1511038800@ju-nf.de
SUMMARY:Stammtisch OV Husum u.U.
DESCRIPTION:Liebe Freunde\, \nim Anschluss an unsere Kulturtour treffen wir uns zu unserem monatlichen Stammtisch. Dieser wird dieses mal allerdings schon um 17:30 Uhr im Husum Pub starten.\nWir freuen uns auf euch! \nEure JU Husum u.U.
URL:https://ju-nf.de/veranstaltungen/stammtisch-ov-husum-u-u-2/
LOCATION:Husum Pub\, Schiffbrücke 5\, Husum\, Schleswig-Holstein\, 25813\, Deutschland
CATEGORIES:Termine
ATTACH;FMTTYPE=image/jpeg:https://ju-nf.de/wp-content/uploads/2017/09/IMG_20170311_2042253.jpg
END:VEVENT
END:VCALENDAR