BEGIN:VCALENDAR
VERSION:2.0
PRODID:-//Junge Union Nordfriesland - ECPv6.15.14//NONSGML v1.0//EN
CALSCALE:GREGORIAN
METHOD:PUBLISH
X-WR-CALNAME:Junge Union Nordfriesland
X-ORIGINAL-URL:https://ju-nf.de
X-WR-CALDESC:Veranstaltungen für Junge Union Nordfriesland
REFRESH-INTERVAL;VALUE=DURATION:PT1H
X-Robots-Tag:noindex
X-PUBLISHED-TTL:PT1H
BEGIN:VTIMEZONE
TZID:Europe/Berlin
BEGIN:DAYLIGHT
TZOFFSETFROM:+0100
TZOFFSETTO:+0200
TZNAME:CEST
DTSTART:20160327T010000
END:DAYLIGHT
BEGIN:STANDARD
TZOFFSETFROM:+0200
TZOFFSETTO:+0100
TZNAME:CET
DTSTART:20161030T010000
END:STANDARD
BEGIN:DAYLIGHT
TZOFFSETFROM:+0100
TZOFFSETTO:+0200
TZNAME:CEST
DTSTART:20170326T010000
END:DAYLIGHT
BEGIN:STANDARD
TZOFFSETFROM:+0200
TZOFFSETTO:+0100
TZNAME:CET
DTSTART:20171029T010000
END:STANDARD
BEGIN:DAYLIGHT
TZOFFSETFROM:+0100
TZOFFSETTO:+0200
TZNAME:CEST
DTSTART:20180325T010000
END:DAYLIGHT
BEGIN:STANDARD
TZOFFSETFROM:+0200
TZOFFSETTO:+0100
TZNAME:CET
DTSTART:20181028T010000
END:STANDARD
END:VTIMEZONE
BEGIN:VEVENT
DTSTART;TZID=Europe/Berlin:20171208T190000
DTEND;TZID=Europe/Berlin:20171208T213000
DTSTAMP:20260422T213409
CREATED:20171116T093712Z
LAST-MODIFIED:20171130T085656Z
UID:1021-1512759600-1512768600@ju-nf.de
SUMMARY:Stammtisch OV Südtondern
DESCRIPTION:Liebe Freunde\, \nauch in der Vorweihnachtszeit findet wieder unser monatlicher Stammtisch des Ortsverbandes statt. Wir wollen gegen Ende des Jahres nochmal zusammenkommen. Gute Gespräche und leckeres Essen sind garantiert und natürlich fehlt auch nicht der anschließende Besuch des Niebüller Weihnachtsmarktes direkt nebenan. \nBesonders freuen wir uns\, dass JU-Freund und Staatssekretär Ingbert Liebing vorbeischauen wird! \nAlle Mitglieder und Interessierte sind wie immer herzlich eingeladen. Wir freuen uns auf Euch! \nEure JU Südtondern
URL:https://ju-nf.de/veranstaltungen/stammtisch-ov-suedtondern-2/
LOCATION:Ratskeller\, Niebüll\, Hauptstraße 44\, Niebüll\, Schleswig-Holstein\, 25899\, Deutschland
CATEGORIES:Termine
ATTACH;FMTTYPE=image/png:https://ju-nf.de/wp-content/uploads/2017/11/STAMMTISCH.png
END:VEVENT
END:VCALENDAR