BEGIN:VCALENDAR
VERSION:2.0
PRODID:-//Junge Union Nordfriesland - ECPv6.15.14//NONSGML v1.0//EN
CALSCALE:GREGORIAN
METHOD:PUBLISH
X-ORIGINAL-URL:https://ju-nf.de
X-WR-CALDESC:Veranstaltungen für Junge Union Nordfriesland
REFRESH-INTERVAL;VALUE=DURATION:PT1H
X-Robots-Tag:noindex
X-PUBLISHED-TTL:PT1H
BEGIN:VTIMEZONE
TZID:Europe/Berlin
BEGIN:DAYLIGHT
TZOFFSETFROM:+0100
TZOFFSETTO:+0200
TZNAME:CEST
DTSTART:20160327T010000
END:DAYLIGHT
BEGIN:STANDARD
TZOFFSETFROM:+0200
TZOFFSETTO:+0100
TZNAME:CET
DTSTART:20161030T010000
END:STANDARD
BEGIN:DAYLIGHT
TZOFFSETFROM:+0100
TZOFFSETTO:+0200
TZNAME:CEST
DTSTART:20170326T010000
END:DAYLIGHT
BEGIN:STANDARD
TZOFFSETFROM:+0200
TZOFFSETTO:+0100
TZNAME:CET
DTSTART:20171029T010000
END:STANDARD
BEGIN:DAYLIGHT
TZOFFSETFROM:+0100
TZOFFSETTO:+0200
TZNAME:CEST
DTSTART:20180325T010000
END:DAYLIGHT
BEGIN:STANDARD
TZOFFSETFROM:+0200
TZOFFSETTO:+0100
TZNAME:CET
DTSTART:20181028T010000
END:STANDARD
END:VTIMEZONE
BEGIN:VEVENT
DTSTART;TZID=Europe/Berlin:20171215T190000
DTEND;TZID=Europe/Berlin:20171215T220000
DTSTAMP:20260422T213858
CREATED:20171130T091812Z
LAST-MODIFIED:20171130T091812Z
UID:1029-1513364400-1513375200@ju-nf.de
SUMMARY:"Punsch & politics" der JU Husum u.U.
DESCRIPTION:Weihnachtsmarktbesuch 2017\nLiebe Freunde\, \nauch wir wollen wieder gegen Ende des Jahres die Gelegenheit nutzen und in guter Tradition den Husumer Weihnachtsmarkt besuchen. Dazu treffen wir uns um 19 Uhr beim Tinebrunnen auf dem Markt. Es verspricht wieder ein toller Abend zu werden! \nWir freuen uns auf Euch! \nEure JU Husum
URL:https://ju-nf.de/veranstaltungen/punsch-politics-der-ju-husum-u-u/
LOCATION:Weihnachtsmarkt\, Husum\, Marktplatz\, Husum\, Schleswig-Holstein\, 25813\, Deutschland
CATEGORIES:Termine
ATTACH;FMTTYPE=image/png:https://ju-nf.de/wp-content/uploads/2017/11/Stammtischvorlage.png
END:VEVENT
END:VCALENDAR