BEGIN:VCALENDAR
VERSION:2.0
PRODID:-//Junge Union Nordfriesland - ECPv6.15.14//NONSGML v1.0//EN
CALSCALE:GREGORIAN
METHOD:PUBLISH
X-WR-CALNAME:Junge Union Nordfriesland
X-ORIGINAL-URL:https://ju-nf.de
X-WR-CALDESC:Veranstaltungen für Junge Union Nordfriesland
REFRESH-INTERVAL;VALUE=DURATION:PT1H
X-Robots-Tag:noindex
X-PUBLISHED-TTL:PT1H
BEGIN:VTIMEZONE
TZID:Europe/Berlin
BEGIN:DAYLIGHT
TZOFFSETFROM:+0100
TZOFFSETTO:+0200
TZNAME:CEST
DTSTART:20170326T010000
END:DAYLIGHT
BEGIN:STANDARD
TZOFFSETFROM:+0200
TZOFFSETTO:+0100
TZNAME:CET
DTSTART:20171029T010000
END:STANDARD
BEGIN:DAYLIGHT
TZOFFSETFROM:+0100
TZOFFSETTO:+0200
TZNAME:CEST
DTSTART:20180325T010000
END:DAYLIGHT
BEGIN:STANDARD
TZOFFSETFROM:+0200
TZOFFSETTO:+0100
TZNAME:CET
DTSTART:20181028T010000
END:STANDARD
BEGIN:DAYLIGHT
TZOFFSETFROM:+0100
TZOFFSETTO:+0200
TZNAME:CEST
DTSTART:20190331T010000
END:DAYLIGHT
BEGIN:STANDARD
TZOFFSETFROM:+0200
TZOFFSETTO:+0100
TZNAME:CET
DTSTART:20191027T010000
END:STANDARD
END:VTIMEZONE
BEGIN:VEVENT
DTSTART;TZID=Europe/Berlin:20180112T190000
DTEND;TZID=Europe/Berlin:20180112T210000
DTSTAMP:20260422T201317
CREATED:20180109T125537Z
LAST-MODIFIED:20180109T125537Z
UID:1089-1515783600-1515790800@ju-nf.de
SUMMARY:Stammtisch der JU Husum u.U.
DESCRIPTION:Liebe Freunde\, \nam Freitag möchten wir uns in gewohnter Manier zu unserem Stammtisch treffen.\nDazu laden wir euch am 12.01.2018\, um 19:00 Uhr in den Ratskeller Husum ein.\nWir freuen uns auf euch! \nEure JU Husum u.U.
URL:https://ju-nf.de/veranstaltungen/stammtisch-der-ju-husum-u-u/
LOCATION:Ratskeller\, Husum\, Großstraße 27\, Husum\, Schleswig-Holstein\, 25813\, Deutschland
CATEGORIES:Termine
ATTACH;FMTTYPE=image/jpeg:https://ju-nf.de/wp-content/uploads/2017/09/IMG_20170311_2042253.jpg
END:VEVENT
END:VCALENDAR