BEGIN:VCALENDAR
VERSION:2.0
PRODID:-//Junge Union Nordfriesland - ECPv6.15.14//NONSGML v1.0//EN
CALSCALE:GREGORIAN
METHOD:PUBLISH
X-WR-CALNAME:Junge Union Nordfriesland
X-ORIGINAL-URL:https://ju-nf.de
X-WR-CALDESC:Veranstaltungen für Junge Union Nordfriesland
REFRESH-INTERVAL;VALUE=DURATION:PT1H
X-Robots-Tag:noindex
X-PUBLISHED-TTL:PT1H
BEGIN:VTIMEZONE
TZID:Europe/Berlin
BEGIN:DAYLIGHT
TZOFFSETFROM:+0100
TZOFFSETTO:+0200
TZNAME:CEST
DTSTART:20170326T010000
END:DAYLIGHT
BEGIN:STANDARD
TZOFFSETFROM:+0200
TZOFFSETTO:+0100
TZNAME:CET
DTSTART:20171029T010000
END:STANDARD
BEGIN:DAYLIGHT
TZOFFSETFROM:+0100
TZOFFSETTO:+0200
TZNAME:CEST
DTSTART:20180325T010000
END:DAYLIGHT
BEGIN:STANDARD
TZOFFSETFROM:+0200
TZOFFSETTO:+0100
TZNAME:CET
DTSTART:20181028T010000
END:STANDARD
BEGIN:DAYLIGHT
TZOFFSETFROM:+0100
TZOFFSETTO:+0200
TZNAME:CEST
DTSTART:20190331T010000
END:DAYLIGHT
BEGIN:STANDARD
TZOFFSETFROM:+0200
TZOFFSETTO:+0100
TZNAME:CET
DTSTART:20191027T010000
END:STANDARD
END:VTIMEZONE
BEGIN:VEVENT
DTSTART;TZID=Europe/Berlin:20180113T100000
DTEND;TZID=Europe/Berlin:20180114T170000
DTSTAMP:20260422T201320
CREATED:20180102T170142Z
LAST-MODIFIED:20180102T170142Z
UID:1078-1515837600-1515949200@ju-nf.de
SUMMARY:Winteracademy 2018
DESCRIPTION:Event der JU Schleswig-Holstein\nNach zwei erfolgreichen Wahlkämpfen in diesem Jahr steht noch nicht fest\, wie unsere nächste Bundesregierung aussehen wird oder ob wir sogar vor Neuwahlen stehen. Mit einem Kommissionswochenende zur diesjährigen Winter Academy wollen wir uns dennoch auch der programmatischen Arbeit widmen. Sicher wird auch die Bundespolitik dort eine Rolle spielen. Besonders wollen wir uns aber mit der Kommunalwahl im kommenden Jahr befassen. \nNähere Infos und Anmeldung findet Ihr auf der Seite unseres Landesverbandes: http://www.ju-sh.de/winter-academy
URL:https://ju-nf.de/veranstaltungen/winteracademy-2018/
LOCATION:Jugendherberge\, Albersdorf\, Bahnhofsstraße 19\, Albersdorf\, Schleswig-Holstein\, 25767\, Deutschland
CATEGORIES:Termine
ATTACH;FMTTYPE=image/jpeg:https://ju-nf.de/wp-content/uploads/2017/10/20171007_164922.jpg
ORGANIZER;CN="Junge Union Schleswig-Holstein":MAILTO:info@jush.de
END:VEVENT
END:VCALENDAR