BEGIN:VCALENDAR
VERSION:2.0
PRODID:-//Junge Union Nordfriesland - ECPv6.15.14//NONSGML v1.0//EN
CALSCALE:GREGORIAN
METHOD:PUBLISH
X-WR-CALNAME:Junge Union Nordfriesland
X-ORIGINAL-URL:https://ju-nf.de
X-WR-CALDESC:Veranstaltungen für Junge Union Nordfriesland
REFRESH-INTERVAL;VALUE=DURATION:PT1H
X-Robots-Tag:noindex
X-PUBLISHED-TTL:PT1H
BEGIN:VTIMEZONE
TZID:Europe/Berlin
BEGIN:DAYLIGHT
TZOFFSETFROM:+0100
TZOFFSETTO:+0200
TZNAME:CEST
DTSTART:20170326T010000
END:DAYLIGHT
BEGIN:STANDARD
TZOFFSETFROM:+0200
TZOFFSETTO:+0100
TZNAME:CET
DTSTART:20171029T010000
END:STANDARD
BEGIN:DAYLIGHT
TZOFFSETFROM:+0100
TZOFFSETTO:+0200
TZNAME:CEST
DTSTART:20180325T010000
END:DAYLIGHT
BEGIN:STANDARD
TZOFFSETFROM:+0200
TZOFFSETTO:+0100
TZNAME:CET
DTSTART:20181028T010000
END:STANDARD
BEGIN:DAYLIGHT
TZOFFSETFROM:+0100
TZOFFSETTO:+0200
TZNAME:CEST
DTSTART:20190331T010000
END:DAYLIGHT
BEGIN:STANDARD
TZOFFSETFROM:+0200
TZOFFSETTO:+0100
TZNAME:CET
DTSTART:20191027T010000
END:STANDARD
END:VTIMEZONE
BEGIN:VEVENT
DTSTART;TZID=Europe/Berlin:20180128T110000
DTEND;TZID=Europe/Berlin:20180128T123000
DTSTAMP:20260422T201229
CREATED:20180102T163351Z
LAST-MODIFIED:20180102T164450Z
UID:1068-1517137200-1517142600@ju-nf.de
SUMMARY:Jahreshauptversammlung der JU Husum u.U.
DESCRIPTION:Liebe Mitglieder und Freunde\, \nhinter uns liegt ein sehr ereignisreiches Jahr mit einer erfolgreichen Landtagswahl\, der Bundestagswahl sowie zahlreichen Aktionen und Veranstaltungen unseres Ortsverbandes. Mit den beiden Wahlkämpfen sowie neuen Veranstaltungsformaten setzen wir Maßstäbe für unsere anstehenden Jahre im Ortsverband. Um das gesamte Jahr einmal Revue passieren zu lassen laden wir euch ganz herzlich zur nächsten \n\nJahreshauptversammlung\nam Sonntag\, den 28. Januar 2018\num 11:00 Uhr\nin der Sportschänke Bredstedt\n(Süderstraße 59\, 25821 Bredstedt)\nein.\nIm Anschluss an den offiziellen Teil wird es noch die Möglichkeit für ein gemeinsames Mittagessen geben. Über eure Teilnahme an der Jahreshauptversammlung würde ich mich sehr freuen!Mit freundlichen Grüßen \nMichel Deckmann\nOrtsvorsitzender
URL:https://ju-nf.de/veranstaltungen/jahreshauptversammlung-der-ju-husum-u-u/
LOCATION:Sportschänke\, Bredstedt\, Süderstraße 59\, Bredstedt\, Schleswig-Holstein\, 25821\, Deutschland
CATEGORIES:Termine
ATTACH;FMTTYPE=image/jpeg:https://ju-nf.de/wp-content/uploads/2017/09/16388195_1387939027895738_6290885420263180428_n-1-e1506462274258.jpg
END:VEVENT
END:VCALENDAR