BEGIN:VCALENDAR
VERSION:2.0
PRODID:-//Junge Union Nordfriesland - ECPv6.15.14//NONSGML v1.0//EN
CALSCALE:GREGORIAN
METHOD:PUBLISH
X-WR-CALNAME:Junge Union Nordfriesland
X-ORIGINAL-URL:https://ju-nf.de
X-WR-CALDESC:Veranstaltungen für Junge Union Nordfriesland
REFRESH-INTERVAL;VALUE=DURATION:PT1H
X-Robots-Tag:noindex
X-PUBLISHED-TTL:PT1H
BEGIN:VTIMEZONE
TZID:Europe/Berlin
BEGIN:DAYLIGHT
TZOFFSETFROM:+0100
TZOFFSETTO:+0200
TZNAME:CEST
DTSTART:20170326T010000
END:DAYLIGHT
BEGIN:STANDARD
TZOFFSETFROM:+0200
TZOFFSETTO:+0100
TZNAME:CET
DTSTART:20171029T010000
END:STANDARD
BEGIN:DAYLIGHT
TZOFFSETFROM:+0100
TZOFFSETTO:+0200
TZNAME:CEST
DTSTART:20180325T010000
END:DAYLIGHT
BEGIN:STANDARD
TZOFFSETFROM:+0200
TZOFFSETTO:+0100
TZNAME:CET
DTSTART:20181028T010000
END:STANDARD
BEGIN:DAYLIGHT
TZOFFSETFROM:+0100
TZOFFSETTO:+0200
TZNAME:CEST
DTSTART:20190331T010000
END:DAYLIGHT
BEGIN:STANDARD
TZOFFSETFROM:+0200
TZOFFSETTO:+0100
TZNAME:CET
DTSTART:20191027T010000
END:STANDARD
END:VTIMEZONE
BEGIN:VEVENT
DTSTART;TZID=Europe/Berlin:20180205T183000
DTEND;TZID=Europe/Berlin:20180205T213000
DTSTAMP:20260422T184557
CREATED:20180203T145559Z
LAST-MODIFIED:20180203T145559Z
UID:1119-1517855400-1517866200@ju-nf.de
SUMMARY:Antragsberatung der JU NF zu CDU Parteitag
DESCRIPTION:Antragsberatungen des CDU Wahlprogramms\nLiebe Freunde\, \nam 17.02. steht der Kreisparteitag der CDU Nordfriesland zu den Kommunalwahlen an. Neben den wichtigen Personalentscheidungen zu den Kandidaten und der Liste stehen auch wieder die Inhalte im Fokus. \nIn Vorbereitung des Parteitages wollen wir das Wahlprogramm beraten und mögliche Änderungsvorschläge diskutieren und ausformulieren. Schließlich endet die Antragsfrist bereits am 10.02. \nWer Lust und Zeit auf inhaltliche Diskussionen und ein kühles Bier hat\, ist herzlich eingeladen! \nDas Treffen ist bei unserem Kreisvorsitzenden zu Hause in Leck. Wer die Adresse benötigt\, kann sich gerne melden! \nWir freuen uns auf Euch!
URL:https://ju-nf.de/veranstaltungen/antragsberatung-der-ju-nf-zu-cdu-parteitag/
LOCATION:Leck\, Leck\, Schleswig-Holstein\, 25917\, Deutschland
CATEGORIES:Termine
ATTACH;FMTTYPE=image/jpeg:https://ju-nf.de/wp-content/uploads/2017/04/2014-11-Sylt.jpg
END:VEVENT
END:VCALENDAR