BEGIN:VCALENDAR
VERSION:2.0
PRODID:-//Junge Union Nordfriesland - ECPv6.15.14//NONSGML v1.0//EN
CALSCALE:GREGORIAN
METHOD:PUBLISH
X-WR-CALNAME:Junge Union Nordfriesland
X-ORIGINAL-URL:https://ju-nf.de
X-WR-CALDESC:Veranstaltungen für Junge Union Nordfriesland
REFRESH-INTERVAL;VALUE=DURATION:PT1H
X-Robots-Tag:noindex
X-PUBLISHED-TTL:PT1H
BEGIN:VTIMEZONE
TZID:Europe/Berlin
BEGIN:DAYLIGHT
TZOFFSETFROM:+0100
TZOFFSETTO:+0200
TZNAME:CEST
DTSTART:20170326T010000
END:DAYLIGHT
BEGIN:STANDARD
TZOFFSETFROM:+0200
TZOFFSETTO:+0100
TZNAME:CET
DTSTART:20171029T010000
END:STANDARD
BEGIN:DAYLIGHT
TZOFFSETFROM:+0100
TZOFFSETTO:+0200
TZNAME:CEST
DTSTART:20180325T010000
END:DAYLIGHT
BEGIN:STANDARD
TZOFFSETFROM:+0200
TZOFFSETTO:+0100
TZNAME:CET
DTSTART:20181028T010000
END:STANDARD
BEGIN:DAYLIGHT
TZOFFSETFROM:+0100
TZOFFSETTO:+0200
TZNAME:CEST
DTSTART:20190331T010000
END:DAYLIGHT
BEGIN:STANDARD
TZOFFSETFROM:+0200
TZOFFSETTO:+0100
TZNAME:CET
DTSTART:20191027T010000
END:STANDARD
END:VTIMEZONE
BEGIN:VEVENT
DTSTART;TZID=Europe/Berlin:20180221T190000
DTEND;TZID=Europe/Berlin:20180221T220000
DTSTAMP:20260422T184613
CREATED:20180203T140856Z
LAST-MODIFIED:20180203T141246Z
UID:1115-1519239600-1519250400@ju-nf.de
SUMMARY:Besuch des Biikebrennens (JU Südtondern)
DESCRIPTION:JU Südtondern besucht das traditionelle Biikebrennen\nLiebe Mitglieder und Freunde der Jungen Union Südtondern\, \nJedes Jahr am 21. Februar\, dem Vorabend des Petritages\, leuchten in ganz Nordfriesland die Biikefeuer. \nDie Ursprünge dieser Tradition werden bis auf vorchristliche Zeiten zurückgeführt. Mit den Feuern sollten die bösen Geister des Winters vertrieben werden. Später interpretierte man den Brauch als Verabschiedungsritus für die friesischen Seefahrer\, die zum Walfang in das Nordmeer aufbrachen. \nSo oder so: Heute gilt das Biikebrennen weithin als Nationalfeiertag der Friesen und ist als immatrielles Kulturerbe anerkannt. \nZusammen besuchen wir am Mittwoch\, den 21.02.2018\, um 19 Uhr das traditionelle Biikebrennen in Deezbüll. \nDen Abend solltet ihr Euch keinesfalls engehen lassen! \nEure JU Südtondern
URL:https://ju-nf.de/veranstaltungen/besuch-des-biikebrennens-ju-suedtondern/
LOCATION:Deezbüll\, Niebüll\, Deezbüll\, Schleswig-Holstein\, 25899\, Deutschland
CATEGORIES:Termine
ATTACH;FMTTYPE=image/jpeg:https://ju-nf.de/wp-content/uploads/2017/03/2016-02-21-Biike-Deezbüll.jpg
END:VEVENT
END:VCALENDAR