BEGIN:VCALENDAR
VERSION:2.0
PRODID:-//Junge Union Nordfriesland - ECPv6.15.14//NONSGML v1.0//EN
CALSCALE:GREGORIAN
METHOD:PUBLISH
X-ORIGINAL-URL:https://ju-nf.de
X-WR-CALDESC:Veranstaltungen für Junge Union Nordfriesland
REFRESH-INTERVAL;VALUE=DURATION:PT1H
X-Robots-Tag:noindex
X-PUBLISHED-TTL:PT1H
BEGIN:VTIMEZONE
TZID:Europe/Berlin
BEGIN:DAYLIGHT
TZOFFSETFROM:+0100
TZOFFSETTO:+0200
TZNAME:CEST
DTSTART:20170326T010000
END:DAYLIGHT
BEGIN:STANDARD
TZOFFSETFROM:+0200
TZOFFSETTO:+0100
TZNAME:CET
DTSTART:20171029T010000
END:STANDARD
BEGIN:DAYLIGHT
TZOFFSETFROM:+0100
TZOFFSETTO:+0200
TZNAME:CEST
DTSTART:20180325T010000
END:DAYLIGHT
BEGIN:STANDARD
TZOFFSETFROM:+0200
TZOFFSETTO:+0100
TZNAME:CET
DTSTART:20181028T010000
END:STANDARD
BEGIN:DAYLIGHT
TZOFFSETFROM:+0100
TZOFFSETTO:+0200
TZNAME:CEST
DTSTART:20190331T010000
END:DAYLIGHT
BEGIN:STANDARD
TZOFFSETFROM:+0200
TZOFFSETTO:+0100
TZNAME:CET
DTSTART:20191027T010000
END:STANDARD
END:VTIMEZONE
BEGIN:VEVENT
DTSTART;TZID=Europe/Berlin:20180224T143000
DTEND;TZID=Europe/Berlin:20180224T160000
DTSTAMP:20260422T184945
CREATED:20180102T164132Z
LAST-MODIFIED:20180102T164300Z
UID:1071-1519482600-1519488000@ju-nf.de
SUMMARY:Jahreshauptversammlung der JU Südtondern
DESCRIPTION:Liebe Mitglieder und Freunde\, \ndas Jahr 2017 war mit gleich zwei Wahlkämpfen richtig spannend. In Südtondern haben wir gemeinsam wieder viel bewegen können! Von Weihnachtsmarktbesuchen\, Stammtischen bis zu Ausflügen und Besuchen hatten wir wieder eine Menge auf dem Plan. Das wird 2018 auch so bleiben! Lasst uns zur Jahreshauptversammlung zusammenkommen und die Weichen für die kommenden Monate stellen. \nEinladung wird folgen und der Tagungsort noch bestätigt!  \nBei Fragen meldet Euch einfach. \nEure \nJU Südtondern
URL:https://ju-nf.de/veranstaltungen/jahreshauptversammlung-der-ju-suedtondern/
LOCATION:Rathaus\, Niebüll\, Hauptstraße 44\, Niebüll\, Schleswig-Holstein\, 25899\, Deutschland
CATEGORIES:Termine
ATTACH;FMTTYPE=image/jpeg:https://ju-nf.de/wp-content/uploads/2017/01/20170107_093555.jpg
END:VEVENT
BEGIN:VEVENT
DTSTART;TZID=Europe/Berlin:20180224T183000
DTEND;TZID=Europe/Berlin:20180224T210000
DTSTAMP:20260422T184945
CREATED:20180109T125902Z
LAST-MODIFIED:20180129T105907Z
UID:1093-1519497000-1519506000@ju-nf.de
SUMMARY:Grünkohlessen der JU Husum u.U.
DESCRIPTION:Liebe Freunde\, \nder JU Ortsverband Husum u.U. und der Kreisverband laden Euch zu Grünkohl satt auf die MS Nordertor im Husumer Hafen ein! \nIn einzigartiger Atmosphäre auf dem Husumer Restaurantschiff wollen wir klassisch-kulinarisch-deftig in das Jahr starten. Lasst Euch diese Gelegenheit nicht entgehen! \nFür die Teilnahme erlauben wir uns\, einen kleinen Eigenanteil zu berechnen: 10\,00 € für Mitglieder der JU NF und 15\,00 € für Gäste (Den Betrag unbedingt bis 20.02. auf das Konto der JU NF überweisen\, erst dann ist die Anmeldung gültig!! Junge Union Nordfriesland; IBAN: DE78 2175 0000 0000 0310 21) \nWir freuen uns auf einen schönen Abend mit Euch! \nEure\nJU NF & JU Husum u.U.
URL:https://ju-nf.de/veranstaltungen/gruenkohlessen-der-ju-husum-u-u/
LOCATION:MS Nordertor\, Husum\, Hafenstraße 1\, Husum\, Schleswig-Holstein\, 25813\, Deutschland
CATEGORIES:Termine
ATTACH;FMTTYPE=image/jpeg:https://ju-nf.de/wp-content/uploads/2018/01/26952208_1746303245392646_3488401512759766666_o.jpg
END:VEVENT
END:VCALENDAR