BEGIN:VCALENDAR
VERSION:2.0
PRODID:-//Junge Union Nordfriesland - ECPv6.15.14//NONSGML v1.0//EN
CALSCALE:GREGORIAN
METHOD:PUBLISH
X-WR-CALNAME:Junge Union Nordfriesland
X-ORIGINAL-URL:https://ju-nf.de
X-WR-CALDESC:Veranstaltungen für Junge Union Nordfriesland
REFRESH-INTERVAL;VALUE=DURATION:PT1H
X-Robots-Tag:noindex
X-PUBLISHED-TTL:PT1H
BEGIN:VTIMEZONE
TZID:Europe/Berlin
BEGIN:DAYLIGHT
TZOFFSETFROM:+0100
TZOFFSETTO:+0200
TZNAME:CEST
DTSTART:20170326T010000
END:DAYLIGHT
BEGIN:STANDARD
TZOFFSETFROM:+0200
TZOFFSETTO:+0100
TZNAME:CET
DTSTART:20171029T010000
END:STANDARD
BEGIN:DAYLIGHT
TZOFFSETFROM:+0100
TZOFFSETTO:+0200
TZNAME:CEST
DTSTART:20180325T010000
END:DAYLIGHT
BEGIN:STANDARD
TZOFFSETFROM:+0200
TZOFFSETTO:+0100
TZNAME:CET
DTSTART:20181028T010000
END:STANDARD
BEGIN:DAYLIGHT
TZOFFSETFROM:+0100
TZOFFSETTO:+0200
TZNAME:CEST
DTSTART:20190331T010000
END:DAYLIGHT
BEGIN:STANDARD
TZOFFSETFROM:+0200
TZOFFSETTO:+0100
TZNAME:CET
DTSTART:20191027T010000
END:STANDARD
END:VTIMEZONE
BEGIN:VEVENT
DTSTART;TZID=Europe/Berlin:20180302T190000
DTEND;TZID=Europe/Berlin:20180302T210000
DTSTAMP:20260422T174348
CREATED:20180226T134318Z
LAST-MODIFIED:20180226T134318Z
UID:1135-1520017200-1520024400@ju-nf.de
SUMMARY:Stammtisch JU Südtondern
DESCRIPTION:Liebe Freunde und Mitglieder\, \nwir möchten Euch herzlich zu unserem Stammtisch im März einladen.\nWie immer erhaltet ihr die Gelegenheit die neuesten Nachrichten aus der JU NF sowie der CDU zu erfahren. Gemeinsam wollen wir uns u.a. über die anstehende Kommunalwahl austauschen und diskutieren.\nNehmt Euch Zeit und seid dabei! Lasst uns\, in gewohnt lockerer Atmosphäre\, einen netten Abend in Niebüll im Wattwurm verbringen. \nWir freuen uns auf Euch!\nEure JU Südtondern
URL:https://ju-nf.de/veranstaltungen/stammtisch-ju-suedtondern-2/
LOCATION:Wattwurm\, Niebüll\, Hauptstraße 28\, Niebüll\, Schleswig-Holstein\, 25899\, Deutschland
CATEGORIES:Termine
ATTACH;FMTTYPE=image/jpeg:https://ju-nf.de/wp-content/uploads/2017/08/Stammtisch-April.jpg
END:VEVENT
END:VCALENDAR