BEGIN:VCALENDAR
VERSION:2.0
PRODID:-//Junge Union Nordfriesland - ECPv6.15.14//NONSGML v1.0//EN
CALSCALE:GREGORIAN
METHOD:PUBLISH
X-ORIGINAL-URL:https://ju-nf.de
X-WR-CALDESC:Veranstaltungen für Junge Union Nordfriesland
REFRESH-INTERVAL;VALUE=DURATION:PT1H
X-Robots-Tag:noindex
X-PUBLISHED-TTL:PT1H
BEGIN:VTIMEZONE
TZID:Europe/Berlin
BEGIN:DAYLIGHT
TZOFFSETFROM:+0100
TZOFFSETTO:+0200
TZNAME:CEST
DTSTART:20170326T010000
END:DAYLIGHT
BEGIN:STANDARD
TZOFFSETFROM:+0200
TZOFFSETTO:+0100
TZNAME:CET
DTSTART:20171029T010000
END:STANDARD
BEGIN:DAYLIGHT
TZOFFSETFROM:+0100
TZOFFSETTO:+0200
TZNAME:CEST
DTSTART:20180325T010000
END:DAYLIGHT
BEGIN:STANDARD
TZOFFSETFROM:+0200
TZOFFSETTO:+0100
TZNAME:CET
DTSTART:20181028T010000
END:STANDARD
BEGIN:DAYLIGHT
TZOFFSETFROM:+0100
TZOFFSETTO:+0200
TZNAME:CEST
DTSTART:20190331T010000
END:DAYLIGHT
BEGIN:STANDARD
TZOFFSETFROM:+0200
TZOFFSETTO:+0100
TZNAME:CET
DTSTART:20191027T010000
END:STANDARD
END:VTIMEZONE
BEGIN:VEVENT
DTSTART;TZID=Europe/Berlin:20180325T100000
DTEND;TZID=Europe/Berlin:20180325T163000
DTSTAMP:20260422T174843
CREATED:20180311T180151Z
LAST-MODIFIED:20180311T180151Z
UID:1163-1521972000-1521995400@ju-nf.de
SUMMARY:Plakatierungsaktion zur #KW18
DESCRIPTION:Große Plakatierung zur Kommunalwahl\nAuch in diesem Wahlkampf wird die JU NF wieder plakatieren! Wir treffen uns kurz vor 10 Uhr an der Kreisgeschäftsstelle in Husum\, um dann mit unseren Teams zu starten. Für eine Versorgung aller Helfer wird natürlich wieder gesorgt sein! \n 
URL:https://ju-nf.de/veranstaltungen/plakatierungsaktion-zur-kw18/
LOCATION:Kreisgeschäftsstelle\, Hinrich-Fehrs-Straße 2\, Husum\, Schleswig-Holstein\, 25813\, Deutschland
CATEGORIES:Termine
ATTACH;FMTTYPE=image/jpeg:https://ju-nf.de/wp-content/uploads/2017/10/IMG_4398.jpg
END:VEVENT
END:VCALENDAR