BEGIN:VCALENDAR
VERSION:2.0
PRODID:-//Junge Union Nordfriesland - ECPv6.15.14//NONSGML v1.0//EN
CALSCALE:GREGORIAN
METHOD:PUBLISH
X-WR-CALNAME:Junge Union Nordfriesland
X-ORIGINAL-URL:https://ju-nf.de
X-WR-CALDESC:Veranstaltungen für Junge Union Nordfriesland
REFRESH-INTERVAL;VALUE=DURATION:PT1H
X-Robots-Tag:noindex
X-PUBLISHED-TTL:PT1H
BEGIN:VTIMEZONE
TZID:Europe/Berlin
BEGIN:DAYLIGHT
TZOFFSETFROM:+0100
TZOFFSETTO:+0200
TZNAME:CEST
DTSTART:20170326T010000
END:DAYLIGHT
BEGIN:STANDARD
TZOFFSETFROM:+0200
TZOFFSETTO:+0100
TZNAME:CET
DTSTART:20171029T010000
END:STANDARD
BEGIN:DAYLIGHT
TZOFFSETFROM:+0100
TZOFFSETTO:+0200
TZNAME:CEST
DTSTART:20180325T010000
END:DAYLIGHT
BEGIN:STANDARD
TZOFFSETFROM:+0200
TZOFFSETTO:+0100
TZNAME:CET
DTSTART:20181028T010000
END:STANDARD
BEGIN:DAYLIGHT
TZOFFSETFROM:+0100
TZOFFSETTO:+0200
TZNAME:CEST
DTSTART:20190331T010000
END:DAYLIGHT
BEGIN:STANDARD
TZOFFSETFROM:+0200
TZOFFSETTO:+0100
TZNAME:CET
DTSTART:20191027T010000
END:STANDARD
END:VTIMEZONE
BEGIN:VEVENT
DTSTART;TZID=Europe/Berlin:20180414T143000
DTEND;TZID=Europe/Berlin:20180414T173000
DTSTAMP:20260422T160035
CREATED:20180403T143826Z
LAST-MODIFIED:20180403T143919Z
UID:1209-1523716200-1523727000@ju-nf.de
SUMMARY:Große Haustüraktion Husum
DESCRIPTION:Haustüraktion für Michel Deckmann – Husum II\nDer Wahlkampf läuft! Gemeinsam wollen wir für unseren Kandidaten Michel Deckmann in Husum ordentlich Werbung beim Haustürwahlkampf machen. Versorgung aller Helfer ist natürlich wieder garantiert. Wir treffen uns bei der Kreisgeschäftsstelle und starten von dort aus. Im Anschluss findet die Zapftischparty der JU Husum u.U. statt. Es wird also ein spannender Tag!
URL:https://ju-nf.de/veranstaltungen/grosse-haustueraktion-husum/
LOCATION:Kreisgeschäftsstelle\, Hinrich-Fehrs-Straße 2\, Husum\, Schleswig-Holstein\, 25813\, Deutschland
CATEGORIES:Termine
ATTACH;FMTTYPE=image/jpeg:https://ju-nf.de/wp-content/uploads/2017/12/IMG_20170422_1804057.jpg
END:VEVENT
BEGIN:VEVENT
DTSTART;TZID=Europe/Berlin:20180414T190000
DTEND;TZID=Europe/Berlin:20180414T213000
DTSTAMP:20260422T160035
CREATED:20180311T181756Z
LAST-MODIFIED:20180311T181756Z
UID:1169-1523732400-1523741400@ju-nf.de
SUMMARY:Zapftischparty der JU Husum u.U.
DESCRIPTION:Auch in diesem Jahr wieder lädt die JU Husum u.U. zum Spareribs satt ins Husumer Brauhaus ein! Weitere Infos (z.B. Eigenbeitrag) folgen.
URL:https://ju-nf.de/veranstaltungen/zapftischparty-der-ju-husum-u-u/
LOCATION:Brauhaus\, Husum\, Neustadt 60-68\, Husum\, Schleswig-Holstein\, 25813\, Deutschland
CATEGORIES:Termine
ATTACH;FMTTYPE=image/jpeg:https://ju-nf.de/wp-content/uploads/2017/09/IMG_20170311_2042253.jpg
END:VEVENT
END:VCALENDAR