BEGIN:VCALENDAR
VERSION:2.0
PRODID:-//Junge Union Nordfriesland - ECPv6.15.14//NONSGML v1.0//EN
CALSCALE:GREGORIAN
METHOD:PUBLISH
X-WR-CALNAME:Junge Union Nordfriesland
X-ORIGINAL-URL:https://ju-nf.de
X-WR-CALDESC:Veranstaltungen für Junge Union Nordfriesland
REFRESH-INTERVAL;VALUE=DURATION:PT1H
X-Robots-Tag:noindex
X-PUBLISHED-TTL:PT1H
BEGIN:VTIMEZONE
TZID:Europe/Berlin
BEGIN:DAYLIGHT
TZOFFSETFROM:+0100
TZOFFSETTO:+0200
TZNAME:CEST
DTSTART:20170326T010000
END:DAYLIGHT
BEGIN:STANDARD
TZOFFSETFROM:+0200
TZOFFSETTO:+0100
TZNAME:CET
DTSTART:20171029T010000
END:STANDARD
BEGIN:DAYLIGHT
TZOFFSETFROM:+0100
TZOFFSETTO:+0200
TZNAME:CEST
DTSTART:20180325T010000
END:DAYLIGHT
BEGIN:STANDARD
TZOFFSETFROM:+0200
TZOFFSETTO:+0100
TZNAME:CET
DTSTART:20181028T010000
END:STANDARD
BEGIN:DAYLIGHT
TZOFFSETFROM:+0100
TZOFFSETTO:+0200
TZNAME:CEST
DTSTART:20190331T010000
END:DAYLIGHT
BEGIN:STANDARD
TZOFFSETFROM:+0200
TZOFFSETTO:+0100
TZNAME:CET
DTSTART:20191027T010000
END:STANDARD
END:VTIMEZONE
BEGIN:VEVENT
DTSTART;TZID=Europe/Berlin:20180608T190000
DTEND;TZID=Europe/Berlin:20180608T213000
DTSTAMP:20260422T131701
CREATED:20180601T084513Z
LAST-MODIFIED:20180601T084513Z
UID:1259-1528484400-1528493400@ju-nf.de
SUMMARY:Stammtisch JU Husum u.U.
DESCRIPTION:Liebe Freunde und Interessierte\, \nam Freitag\, den 08.06\, treffen wir uns wieder zu unserem regelmäßigen Stammtisch in der Blockhütte in Husum. Gemeinsam wollen wir wieder rege über die aktuellen politischen Themen diskutieren und dabei einen schönen Abend verbringen. Wir freuen uns auf Euch! \nEure\nJU Husum u.U.
URL:https://ju-nf.de/veranstaltungen/stammtisch-ju-husum-u-u-2/
LOCATION:Blockhütte\, Husum\, Neustadt 78\, Husum\, Schleswig-Holstein\, 25813\, Deutschland
CATEGORIES:Termine
ATTACH;FMTTYPE=image/jpeg:https://ju-nf.de/wp-content/uploads/2017/09/IMG_20170311_2042253.jpg
END:VEVENT
END:VCALENDAR