BEGIN:VCALENDAR
VERSION:2.0
PRODID:-//Junge Union Nordfriesland - ECPv6.15.14//NONSGML v1.0//EN
CALSCALE:GREGORIAN
METHOD:PUBLISH
X-ORIGINAL-URL:https://ju-nf.de
X-WR-CALDESC:Veranstaltungen für Junge Union Nordfriesland
REFRESH-INTERVAL;VALUE=DURATION:PT1H
X-Robots-Tag:noindex
X-PUBLISHED-TTL:PT1H
BEGIN:VTIMEZONE
TZID:Europe/Berlin
BEGIN:DAYLIGHT
TZOFFSETFROM:+0100
TZOFFSETTO:+0200
TZNAME:CEST
DTSTART:20170326T010000
END:DAYLIGHT
BEGIN:STANDARD
TZOFFSETFROM:+0200
TZOFFSETTO:+0100
TZNAME:CET
DTSTART:20171029T010000
END:STANDARD
BEGIN:DAYLIGHT
TZOFFSETFROM:+0100
TZOFFSETTO:+0200
TZNAME:CEST
DTSTART:20180325T010000
END:DAYLIGHT
BEGIN:STANDARD
TZOFFSETFROM:+0200
TZOFFSETTO:+0100
TZNAME:CET
DTSTART:20181028T010000
END:STANDARD
BEGIN:DAYLIGHT
TZOFFSETFROM:+0100
TZOFFSETTO:+0200
TZNAME:CEST
DTSTART:20190331T010000
END:DAYLIGHT
BEGIN:STANDARD
TZOFFSETFROM:+0200
TZOFFSETTO:+0100
TZNAME:CET
DTSTART:20191027T010000
END:STANDARD
END:VTIMEZONE
BEGIN:VEVENT
DTSTART;TZID=Europe/Berlin:20180622T180000
DTEND;TZID=Europe/Berlin:20180622T210000
DTSTAMP:20260422T132129
CREATED:20180601T085100Z
LAST-MODIFIED:20180601T085100Z
UID:1262-1529690400-1529701200@ju-nf.de
SUMMARY:Sommerfest der JU SH
DESCRIPTION:Liebe Freundinnen und Freunde der Jungen Union Schleswig-Holstein\, \nich möchte Sie und Euch herzlich zum traditionellen Sommerfest der Jungen Union Schleswig-Holstein im Rahmen der Kieler Woche in die Hermann Ehlers Akademie einladen. \nGemeinsam wollen wir auf ein bewegtes politisches Jahr zurückblicken. Die Jamaika-Regierung in Schleswig-Holstein ist ein knappes Jahr im Amt und hat unserem Land wichtige politische Impulse für eine erfolgreiche Zukunft gegeben. Auch auf bundespolitischer Ebene liegt eine aufregende Zeit hinter uns. Ich freue mich daher besonders darauf\, den jüngsten Bundestagsabgeordneten der CDU/CSU-Fraktion\, Philipp Amthor MdB\, in diesem Jahr als unseren Ehrengast ankündigen zu können. Durch seine erste Bundestagsrede ist er einer größeren Öffentlichkeit bekannt geworden\, indem er eindrucksvoll den Populisten Paroli bot. \nIm Anschluss an seine Rede wollen wir wie in den letzten Jahren – bei hoffentlich schönem Wetter – im Garten der Hermann Ehlers Akademie grillen. \n  \nIch freue mich\, Sie und Euch auf dem Sommerfest begrüßen zu können. \nTobias Loose\, MdL  \nLandesvorsitzender Junge Union Schleswig-Holstein
URL:https://ju-nf.de/veranstaltungen/sommerfest-der-ju-sh/
LOCATION:Hermann-Ehlers-Akademie\, Kiel\, Niemannsweg 78\, Kiel\, Schleswig-Holstein\, 24105\, Deutschland
CATEGORIES:Termine
ATTACH;FMTTYPE=image/png:https://ju-nf.de/wp-content/uploads/2018/06/slidefoto_sommerfest_2018.png
ORGANIZER;CN="Junge Union Schleswig-Holstein":MAILTO:info@jush.de
END:VEVENT
END:VCALENDAR