BEGIN:VCALENDAR
VERSION:2.0
PRODID:-//Junge Union Nordfriesland - ECPv6.15.14//NONSGML v1.0//EN
CALSCALE:GREGORIAN
METHOD:PUBLISH
X-WR-CALNAME:Junge Union Nordfriesland
X-ORIGINAL-URL:https://ju-nf.de
X-WR-CALDESC:Veranstaltungen für Junge Union Nordfriesland
REFRESH-INTERVAL;VALUE=DURATION:PT1H
X-Robots-Tag:noindex
X-PUBLISHED-TTL:PT1H
BEGIN:VTIMEZONE
TZID:Europe/Berlin
BEGIN:DAYLIGHT
TZOFFSETFROM:+0100
TZOFFSETTO:+0200
TZNAME:CEST
DTSTART:20170326T010000
END:DAYLIGHT
BEGIN:STANDARD
TZOFFSETFROM:+0200
TZOFFSETTO:+0100
TZNAME:CET
DTSTART:20171029T010000
END:STANDARD
BEGIN:DAYLIGHT
TZOFFSETFROM:+0100
TZOFFSETTO:+0200
TZNAME:CEST
DTSTART:20180325T010000
END:DAYLIGHT
BEGIN:STANDARD
TZOFFSETFROM:+0200
TZOFFSETTO:+0100
TZNAME:CET
DTSTART:20181028T010000
END:STANDARD
BEGIN:DAYLIGHT
TZOFFSETFROM:+0100
TZOFFSETTO:+0200
TZNAME:CEST
DTSTART:20190331T010000
END:DAYLIGHT
BEGIN:STANDARD
TZOFFSETFROM:+0200
TZOFFSETTO:+0100
TZNAME:CET
DTSTART:20191027T010000
END:STANDARD
END:VTIMEZONE
BEGIN:VEVENT
DTSTART;TZID=Europe/Berlin:20180804T130000
DTEND;TZID=Europe/Berlin:20180804T190000
DTSTAMP:20260420T111000
CREATED:20180710T110427Z
LAST-MODIFIED:20180710T110427Z
UID:1304-1533387600-1533409200@ju-nf.de
SUMMARY:Sylttour der JU NF
DESCRIPTION:Liebe Freunde\, \ndiesen Sommer wollen wir wieder eine Tour über die Insel Sylt machen. Die JU Sylt und der Kreisverband haben hierfür eine Radtour mit mehren Stationen angedacht: Es erwarten Euch aktuelle Inselthemen und ein tolles Grillen\, alles bei – hoffentlich – bestem Sommerwetter auf der Insel. \nWeitere Infos kommen\, sobald wir mit den Planungen fertig sind. Wir freuen uns auf Euch!
URL:https://ju-nf.de/veranstaltungen/sylttour-der-ju-nf/
LOCATION:Westerland\, Westerland\, Schleswig-Holstein\, 25980\, Deutschland
CATEGORIES:Termine
ATTACH;FMTTYPE=image/jpeg:https://ju-nf.de/wp-content/uploads/2017/04/ju-nf_titelbild_strand.jpg
END:VEVENT
END:VCALENDAR