BEGIN:VCALENDAR
VERSION:2.0
PRODID:-//Junge Union Nordfriesland - ECPv6.15.14//NONSGML v1.0//EN
CALSCALE:GREGORIAN
METHOD:PUBLISH
X-WR-CALNAME:Junge Union Nordfriesland
X-ORIGINAL-URL:https://ju-nf.de
X-WR-CALDESC:Veranstaltungen für Junge Union Nordfriesland
REFRESH-INTERVAL;VALUE=DURATION:PT1H
X-Robots-Tag:noindex
X-PUBLISHED-TTL:PT1H
BEGIN:VTIMEZONE
TZID:Europe/Berlin
BEGIN:DAYLIGHT
TZOFFSETFROM:+0100
TZOFFSETTO:+0200
TZNAME:CEST
DTSTART:20170326T010000
END:DAYLIGHT
BEGIN:STANDARD
TZOFFSETFROM:+0200
TZOFFSETTO:+0100
TZNAME:CET
DTSTART:20171029T010000
END:STANDARD
BEGIN:DAYLIGHT
TZOFFSETFROM:+0100
TZOFFSETTO:+0200
TZNAME:CEST
DTSTART:20180325T010000
END:DAYLIGHT
BEGIN:STANDARD
TZOFFSETFROM:+0200
TZOFFSETTO:+0100
TZNAME:CET
DTSTART:20181028T010000
END:STANDARD
BEGIN:DAYLIGHT
TZOFFSETFROM:+0100
TZOFFSETTO:+0200
TZNAME:CEST
DTSTART:20190331T010000
END:DAYLIGHT
BEGIN:STANDARD
TZOFFSETFROM:+0200
TZOFFSETTO:+0100
TZNAME:CET
DTSTART:20191027T010000
END:STANDARD
END:VTIMEZONE
BEGIN:VEVENT
DTSTART;TZID=Europe/Berlin:20180812T183000
DTEND;TZID=Europe/Berlin:20180812T213000
DTSTAMP:20260420T105448
CREATED:20180809T090947Z
LAST-MODIFIED:20180809T091051Z
UID:1324-1534098600-1534109400@ju-nf.de
SUMMARY:Besuch der Husumer Hafentage
DESCRIPTION:Liebe Freunde\, \ndie JU will sich auch in diesem Jahr wieder zum Rundgang über die Hafentage treffen. Dieses Mal treffen wir uns am Sonntag\, dem Abend des großen Feuerwerks und des Abschlusses der Tage. \nMitglieder und Interessierte sind herzlich eingeladen! \nTreffpunkt wird voraussichtlich am Marktplatz in Husum sein.
URL:https://ju-nf.de/veranstaltungen/besuch-der-husumer-hafentage/
LOCATION:Markt\, Husum\, Markt\, Husum\, Schleswig-Holstein\, 25813\, Deutschland
CATEGORIES:Termine
ATTACH;FMTTYPE=image/jpeg:https://ju-nf.de/wp-content/uploads/2018/08/38458634_1971615576194744_1612291088960192512_o.jpg
END:VEVENT
END:VCALENDAR