BEGIN:VCALENDAR
VERSION:2.0
PRODID:-//Junge Union Nordfriesland - ECPv6.15.14//NONSGML v1.0//EN
CALSCALE:GREGORIAN
METHOD:PUBLISH
X-WR-CALNAME:Junge Union Nordfriesland
X-ORIGINAL-URL:https://ju-nf.de
X-WR-CALDESC:Veranstaltungen für Junge Union Nordfriesland
REFRESH-INTERVAL;VALUE=DURATION:PT1H
X-Robots-Tag:noindex
X-PUBLISHED-TTL:PT1H
BEGIN:VTIMEZONE
TZID:Europe/Berlin
BEGIN:DAYLIGHT
TZOFFSETFROM:+0100
TZOFFSETTO:+0200
TZNAME:CEST
DTSTART:20160327T010000
END:DAYLIGHT
BEGIN:STANDARD
TZOFFSETFROM:+0200
TZOFFSETTO:+0100
TZNAME:CET
DTSTART:20161030T010000
END:STANDARD
BEGIN:DAYLIGHT
TZOFFSETFROM:+0100
TZOFFSETTO:+0200
TZNAME:CEST
DTSTART:20170326T010000
END:DAYLIGHT
BEGIN:STANDARD
TZOFFSETFROM:+0200
TZOFFSETTO:+0100
TZNAME:CET
DTSTART:20171029T010000
END:STANDARD
BEGIN:DAYLIGHT
TZOFFSETFROM:+0100
TZOFFSETTO:+0200
TZNAME:CEST
DTSTART:20180325T010000
END:DAYLIGHT
BEGIN:STANDARD
TZOFFSETFROM:+0200
TZOFFSETTO:+0100
TZNAME:CET
DTSTART:20181028T010000
END:STANDARD
END:VTIMEZONE
BEGIN:VEVENT
DTSTART;TZID=Europe/Berlin:20170910T143000
DTEND;TZID=Europe/Berlin:20170910T170000
DTSTAMP:20260423T004319
CREATED:20170710T112256Z
LAST-MODIFIED:20170926T112602Z
UID:367-1505053800-1505062800@ju-nf.de
SUMMARY:Jahreshauptversammlung 2017
DESCRIPTION:Liebe Mitglieder\, liebe Freunde\, \nhinter uns liegen unglaubliche Monate: Der Schleswig-Holstein-Tag in Husum sowie ein erfolgreicher Landtagswahlkampf sind gemeistert. In den kommenden Tagen wollen wir auch die Bundestagswahl gewinnen und unsere langjährige JU-Freundin und CDU Kreisvorsitzende Astrid Damerow nach Berlin bringen. Nun ist die Zeit gekommen\, zusammen das Jahr abzuschließen und gleichzeitig die personellen und inhaltlichen Weichen für die kommenden Monate zu stellen. \nAnträge und Änderungsanträge können bis zum 03.09 in der Kreisgeschäftsstelle der CDU in Husum eingereicht werden. Die Tagesordnung finden Sie/ findet Ihr anbei. \nWir freuen uns darauf\, Sie/ Euch begrüßen zu dürfen.
URL:https://ju-nf.de/veranstaltungen/jahreshauptversammlung-2017/
LOCATION:Kirchspielskrug\, Mildstedt\, Hauptstraße 13\, Mildstedt\, Schleswig-Holstein\, 25866\, Deutschland
CATEGORIES:Termine
ATTACH;FMTTYPE=image/jpeg:https://ju-nf.de/wp-content/uploads/2017/09/IMG-20170910-WA00152.jpg
END:VEVENT
BEGIN:VEVENT
DTSTART;TZID=Europe/Berlin:20170924T080000
DTEND;TZID=Europe/Berlin:20170924T180000
DTSTAMP:20260423T004319
CREATED:20170901T112008Z
LAST-MODIFIED:20170926T112225Z
UID:365-1506240000-1506276000@ju-nf.de
SUMMARY:Bundestagswahl 2017
DESCRIPTION:Wählen gehen und vom Königsrecht der Demokratie Gebrauch machen!
URL:https://ju-nf.de/veranstaltungen/bundestagswahl-2017/
CATEGORIES:Termine
ATTACH;FMTTYPE=image/jpeg:https://ju-nf.de/wp-content/uploads/2017/09/14991008_1299898100033165_6798690302235123005_o.jpg
END:VEVENT
BEGIN:VEVENT
DTSTART;TZID=Europe/Berlin:20170929T183000
DTEND;TZID=Europe/Berlin:20170929T200000
DTSTAMP:20260423T004319
CREATED:20170926T191942Z
LAST-MODIFIED:20170926T191942Z
UID:437-1506709800-1506715200@ju-nf.de
SUMMARY:Antragsberatung zum SHT
DESCRIPTION:Die Antragsberatung des Kreisverbands zum Leitantrag der JU SH.
URL:https://ju-nf.de/veranstaltungen/antragsberatung-zum-sht/
LOCATION:Kreisgeschäftsstelle\, Hinrich-Fehrs-Straße 2\, Husum\, Schleswig-Holstein\, 25813\, Deutschland
CATEGORIES:Termine
ATTACH;FMTTYPE=image/jpeg:https://ju-nf.de/wp-content/uploads/2017/08/IMG_20170617_1517539.jpg
END:VEVENT
BEGIN:VEVENT
DTSTART;TZID=Europe/Berlin:20170930T090000
DTEND;TZID=Europe/Berlin:20170930T170000
DTSTAMP:20260423T004319
CREATED:20170926T115059Z
LAST-MODIFIED:20170926T115205Z
UID:370-1506762000-1506790800@ju-nf.de
SUMMARY:JU NF auf Ehrenamtsmesse
DESCRIPTION:Die JU NF wird an der Ehrenamtsmesse des Amtes Südtondern teilnehmen.
URL:https://ju-nf.de/veranstaltungen/ju-nf-auf-ehrenamtsmesse/
LOCATION:Amt Südtondern\, Marktstraße 12\, Niebüll\, Schleswig-Holstein\, 25899\, Deutschland
CATEGORIES:Termine
ATTACH;FMTTYPE=image/jpeg:https://ju-nf.de/wp-content/uploads/2017/04/2014-11-Sylt.jpg
END:VEVENT
BEGIN:VEVENT
DTSTART;TZID=Europe/Berlin:20170930T190000
DTEND;TZID=Europe/Berlin:20170930T230000
DTSTAMP:20260423T004319
CREATED:20170926T111935Z
LAST-MODIFIED:20170930T180455Z
UID:361-1506798000-1506812400@ju-nf.de
SUMMARY:Besuch des Oktoberfests in Leck
DESCRIPTION:Achtung! Ausgebucht! Keine Plätze mehr frei!\nO’zapft is!\nJunge Union verspricht zünftigen Abend beim Oktoberfest in Leck
URL:https://ju-nf.de/veranstaltungen/besuch-des-oktoberfests-in-leck/
LOCATION:Kaserne FASt Leck\, Klixbüller Chaussee 21\, Leck\, Schleswig-Holstein\, 25917\, Deutschland
CATEGORIES:Termine
ATTACH;FMTTYPE=image/jpeg:https://ju-nf.de/wp-content/uploads/2017/09/IMG_20140920_210233.jpg
END:VEVENT
END:VCALENDAR