BEGIN:VCALENDAR
VERSION:2.0
PRODID:-//Junge Union Nordfriesland - ECPv6.15.14//NONSGML v1.0//EN
CALSCALE:GREGORIAN
METHOD:PUBLISH
X-ORIGINAL-URL:https://ju-nf.de
X-WR-CALDESC:Veranstaltungen für Junge Union Nordfriesland
REFRESH-INTERVAL;VALUE=DURATION:PT1H
X-Robots-Tag:noindex
X-PUBLISHED-TTL:PT1H
BEGIN:VTIMEZONE
TZID:Europe/Berlin
BEGIN:DAYLIGHT
TZOFFSETFROM:+0100
TZOFFSETTO:+0200
TZNAME:CEST
DTSTART:20170326T010000
END:DAYLIGHT
BEGIN:STANDARD
TZOFFSETFROM:+0200
TZOFFSETTO:+0100
TZNAME:CET
DTSTART:20171029T010000
END:STANDARD
BEGIN:DAYLIGHT
TZOFFSETFROM:+0100
TZOFFSETTO:+0200
TZNAME:CEST
DTSTART:20180325T010000
END:DAYLIGHT
BEGIN:STANDARD
TZOFFSETFROM:+0200
TZOFFSETTO:+0100
TZNAME:CET
DTSTART:20181028T010000
END:STANDARD
BEGIN:DAYLIGHT
TZOFFSETFROM:+0100
TZOFFSETTO:+0200
TZNAME:CEST
DTSTART:20190331T010000
END:DAYLIGHT
BEGIN:STANDARD
TZOFFSETFROM:+0200
TZOFFSETTO:+0100
TZNAME:CET
DTSTART:20191027T010000
END:STANDARD
END:VTIMEZONE
BEGIN:VEVENT
DTSTART;TZID=Europe/Berlin:20180504T190000
DTEND;TZID=Europe/Berlin:20180504T213000
DTSTAMP:20260422T132323
CREATED:20180403T144932Z
LAST-MODIFIED:20180403T144932Z
UID:1216-1525460400-1525469400@ju-nf.de
SUMMARY:Stammtisch JU Südtondern
DESCRIPTION:Liebe Mitglieder und Freunde\, \ndie Kommunalwahl steht kurz bevor\, der Wahlkampf läuft auf Hochtouren. Dabei lassen wir es uns auch dieses Mal wieder nicht nehmen\, zu einem Stammtisch zusammenzukommen. Mitglieder in Interessierte sind wie immer herzlich eingeladen! \n 
URL:https://ju-nf.de/veranstaltungen/stammtisch-ju-suedtondern-4/
LOCATION:Wattwurm\, Niebüll\, Hauptstraße 28\, Niebüll\, Schleswig-Holstein\, 25899\, Deutschland
CATEGORIES:Termine
ATTACH;FMTTYPE=image/jpeg:https://ju-nf.de/wp-content/uploads/2017/08/Stammtisch-April.jpg
END:VEVENT
BEGIN:VEVENT
DTSTART;TZID=Europe/Berlin:20180505T080000
DTEND;TZID=Europe/Berlin:20180505T183000
DTSTAMP:20260422T132323
CREATED:20180403T145454Z
LAST-MODIFIED:20180403T145454Z
UID:1218-1525507200-1525545000@ju-nf.de
SUMMARY:Der Tag vor der Wahl - Aktionen über Aktionen!
DESCRIPTION:Den ganzen Tag Aktionen der JU NF\nEinen Tag vor der Wahl wollen wir nochmal alles geben. Wir kämpfen dafür\, dass die CDU wieder stärkste Kraft in Nordfriesland wird und unsere Kandidaten in die Kommunalparlamente einziehen. Dabei werden wir in ganz NF unterwegs sein. Meldet Euch für mehr Infos.
URL:https://ju-nf.de/veranstaltungen/der-tag-vor-der-wahl-aktionen-ueber-aktionen/
LOCATION:Nordfriesland\, Husum\, Schleswig-Holstein\, 25813\, Deutschland
CATEGORIES:Termine
ATTACH;FMTTYPE=image/jpeg:https://ju-nf.de/wp-content/uploads/2017/09/IMG_2209.jpg
END:VEVENT
BEGIN:VEVENT
DTSTART;VALUE=DATE:20180506
DTEND;VALUE=DATE:20180507
DTSTAMP:20260422T132323
CREATED:20180102T165402Z
LAST-MODIFIED:20180102T165402Z
UID:1075-1525564800-1525651199@ju-nf.de
SUMMARY:Kommunalwahlen 2018
DESCRIPTION:Termin vormerken!\nAm 6. Mai werden wieder die Gemeinde-\, Stadt- und Kreisparlamente gewählt. Bei den Kommunalwahlen am ersten Sonntag im Mai wird in ganz Schleswig-Holstein gewählt. Für eine starke Vertretung in den Kommunen: CDU wählen! Mit den Kandidaten aus der Jungen Union Nordfriesland gibt es eine starke Stimme für die junge Generation.
URL:https://ju-nf.de/veranstaltungen/kommunalwahlen-2018/
LOCATION:Schleswig-Holstein\, Schleswig-Holstein\, Deutschland
CATEGORIES:Termine
ATTACH;FMTTYPE=image/jpeg:https://ju-nf.de/wp-content/uploads/2017/09/20151103_162738.jpg
END:VEVENT
BEGIN:VEVENT
DTSTART;TZID=Europe/Berlin:20180528T190000
DTEND;TZID=Europe/Berlin:20180528T210000
DTSTAMP:20260422T132323
CREATED:20180518T121335Z
LAST-MODIFIED:20180518T121335Z
UID:1246-1527534000-1527541200@ju-nf.de
SUMMARY:Treffen mit Friisk Foriining
DESCRIPTION:Der AK Friesisch hat ein Treffen mit der Friisk Foriining organisiert zum gegenseitigen Austausch über unsere Vereinigungen und unsere Möglichkeiten\, das Friesische zu fördern. \nDie Veranstaltung ist am 28.05. um 19 Uhr. Ort voraussichtlich die Taverne Kreta in Bredstedt.
URL:https://ju-nf.de/veranstaltungen/treffen-mit-friisk-foriining/
LOCATION:Taverne Kreta\, Bredstedt\, Tondernsche Straße 2\, Bredstedt\, Schleswig-Holstein\, 25821\, Deutschland
CATEGORIES:Termine
ATTACH;FMTTYPE=image/jpeg:https://ju-nf.de/wp-content/uploads/2017/09/20151103_162738.jpg
END:VEVENT
END:VCALENDAR